BEGIN:VCALENDAR
VERSION:2.0
PRODID:-//wp-events-plugin.com//7.1.7//EN
BEGIN:VEVENT
UID:2@chandigarhbreastcancertrust.org
DTSTART;VALUE=DATE:20240907
DTEND;VALUE=DATE:20240908
DTSTAMP:20250806T164256Z
URL:https://chandigarhbreastcancertrust.org/events/cervavac-vaccination-ca
 mp/
SUMMARY:CERVAVAC Vaccination Camp
DESCRIPTION:HPV virus is the commonest cause of Cervical Cancer and CERVAVA
 C is the vaccine which is being used today in preventing most HPV attribut
 able Cancers. The trust organised a Vaccination Camp at Sri Guru Gobind Si
 ngh Collegiate Public School\, Sector 26 Chandigarh\, where 46 young girls
  were vaccinated under the guidance of Dr. Gaurav Prakash Professor of Onc
 ology at PGI Chandigarh.
ATTACH;FMTTYPE=image/jpeg:https://chandigarhbreastcancertrust.org/wp-conte
 nt/uploads/2024/10/IMG-20240909-WA0050.jpg
CATEGORIES:EVENTS IN 2024
LOCATION:Sri Guru Gobind Singh Collegiate Public School\, Sector 26\, Chand
 igarh\, India
X-APPLE-STRUCTURED-LOCATION;VALUE=URI;X-ADDRESS=Sector 26\, Chandigarh\, In
 dia;X-APPLE-RADIUS=100;X-TITLE=Sri Guru Gobind Singh Collegiate Public Sch
 ool:geo:0,0
END:VEVENT
END:VCALENDAR